BEGIN:VCALENDAR
VERSION:2.0
PRODID:-//Dreams Comes True - ECPv6.15.20//NONSGML v1.0//EN
CALSCALE:GREGORIAN
METHOD:PUBLISH
X-ORIGINAL-URL:https://dreamscometrue.org
X-WR-CALDESC:Events for Dreams Comes True
REFRESH-INTERVAL;VALUE=DURATION:PT1H
X-Robots-Tag:noindex
X-PUBLISHED-TTL:PT1H
BEGIN:VTIMEZONE
TZID:America/New_York
BEGIN:DAYLIGHT
TZOFFSETFROM:-0500
TZOFFSETTO:-0400
TZNAME:EDT
DTSTART:20220313T070000
END:DAYLIGHT
BEGIN:STANDARD
TZOFFSETFROM:-0400
TZOFFSETTO:-0500
TZNAME:EST
DTSTART:20221106T060000
END:STANDARD
BEGIN:DAYLIGHT
TZOFFSETFROM:-0500
TZOFFSETTO:-0400
TZNAME:EDT
DTSTART:20230312T070000
END:DAYLIGHT
BEGIN:STANDARD
TZOFFSETFROM:-0400
TZOFFSETTO:-0500
TZNAME:EST
DTSTART:20231105T060000
END:STANDARD
BEGIN:DAYLIGHT
TZOFFSETFROM:-0500
TZOFFSETTO:-0400
TZNAME:EDT
DTSTART:20240310T070000
END:DAYLIGHT
BEGIN:STANDARD
TZOFFSETFROM:-0400
TZOFFSETTO:-0500
TZNAME:EST
DTSTART:20241103T060000
END:STANDARD
END:VTIMEZONE
BEGIN:VEVENT
DTSTART;TZID=America/New_York:20231130T180000
DTEND;TZID=America/New_York:20231130T223000
DTSTAMP:20260421T204833
CREATED:20230926T214252Z
LAST-MODIFIED:20240118T205124Z
UID:10000004-1701367200-1701383400@dreamscometrue.org
SUMMARY:Poker Tournament
DESCRIPTION:Kaye’s Kids Ho Ho Hold ‘Em Annual Charity Poker Tournament\nJoin Mark Kaye for the 6th Annual Ho Ho Hold ‘Em Charity Poker Tournament. Proceeds from the event support the Kaye’s Kids initiative\, a Special Times program of Dreams Come True. Grand Prize winners receive CASH\, a trophy\, and the Title! The event includes prizes\, food\, drinks\, and tons of fun. Tickets are limited.  \nTickets Options Include:\n\nVIK Table (Very Important Kayetriots!) – $750/ticket: enjoy a seat at the live-streamed VIK table with Mark Kaye and Hannah all night until you get knocked out or win! Special swag for VIK players.\nFull Table (8 ppl) – $1\,500\nSingle Tickets – $250\nSpectator Tickets – $100\n\nSorry\, no walkups will be allowed.
URL:https://dreamscometrue.org/event/kayes-kids-charity-poker-tournament/
LOCATION:bestbet Jacksonville\, 201 Monument Rd\, Jacksonville\, FL\, 32225\, United States
CATEGORIES:Community Event
ATTACH;FMTTYPE=image/webp:https://dreamscometrue.org/wp-content/uploads/2023/09/hero_event-kayes-poker2.webp
ORGANIZER;CN="Dreams Come True":MAILTO:events@dreamscometrue.org
END:VEVENT
END:VCALENDAR