BEGIN:VCALENDAR
VERSION:2.0
PRODID:-//Dreams Comes True - ECPv6.15.20//NONSGML v1.0//EN
CALSCALE:GREGORIAN
METHOD:PUBLISH
X-WR-CALNAME:Dreams Comes True
X-ORIGINAL-URL:https://dreamscometrue.org
X-WR-CALDESC:Events for Dreams Comes True
REFRESH-INTERVAL;VALUE=DURATION:PT1H
X-Robots-Tag:noindex
X-PUBLISHED-TTL:PT1H
BEGIN:VTIMEZONE
TZID:America/New_York
BEGIN:DAYLIGHT
TZOFFSETFROM:-0500
TZOFFSETTO:-0400
TZNAME:EDT
DTSTART:20240310T070000
END:DAYLIGHT
BEGIN:STANDARD
TZOFFSETFROM:-0400
TZOFFSETTO:-0500
TZNAME:EST
DTSTART:20241103T060000
END:STANDARD
BEGIN:DAYLIGHT
TZOFFSETFROM:-0500
TZOFFSETTO:-0400
TZNAME:EDT
DTSTART:20250309T070000
END:DAYLIGHT
BEGIN:STANDARD
TZOFFSETFROM:-0400
TZOFFSETTO:-0500
TZNAME:EST
DTSTART:20251102T060000
END:STANDARD
BEGIN:DAYLIGHT
TZOFFSETFROM:-0500
TZOFFSETTO:-0400
TZNAME:EDT
DTSTART:20260308T070000
END:DAYLIGHT
BEGIN:STANDARD
TZOFFSETFROM:-0400
TZOFFSETTO:-0500
TZNAME:EST
DTSTART:20261101T060000
END:STANDARD
END:VTIMEZONE
BEGIN:VEVENT
DTSTART;VALUE=DATE:20251018
DTEND;VALUE=DATE:20251020
DTSTAMP:20260423T131030
CREATED:20250731T112934Z
LAST-MODIFIED:20250731T112934Z
UID:10000061-1760745600-1760918399@dreamscometrue.org
SUMMARY:FL PGF Softball Tournament
DESCRIPTION:FL PGF and Dreams Come True are joining forces to bring you the First Annual Dreams Come True Tournament in honor of Dreamer and former collegiate softball player\, Brooke Michael. \nThe tournament will take place at two Jacksonville venues: \n\nDrew Park: 6621 Barnes Rd S\, Jacksonville\, FL 32216 \n\nRinghaver Softball Complex: 5198 118th Street.\, Jacksonville\, FL 32244 \nTeams can register at: softball.tournamentconnect.premiergirlsfastpitch.com/events/register/tournaments/provider/flordiapgf \nTo support the efforts of FL PGF and Dreamer Brooke\, donations are welcomed at the DCT Softball Tournament donation site: bit.ly/DCT-SoftballTournament \n 
URL:https://dreamscometrue.org/event/fl-pgf-softball-tournament/
LOCATION:Drew Park and Ringhaver Softball Complex
ATTACH;FMTTYPE=image/jpeg:https://dreamscometrue.org/wp-content/uploads/2025/07/PGF-STAte-e1753961262481.jpg
ORGANIZER;CN="Dreams Come True":MAILTO:events@dreamscometrue.org
END:VEVENT
END:VCALENDAR